BEGIN:VCALENDAR
VERSION:2.0
PRODID:-//hacksw/handcal//NONSGML v1.0//EN
BEGIN:VEVENT
SUMMARY:D1 D1 12-BAM-2 D1 contre 12-LFDVR-1 D1
UID:3dee36f0-58a4-44e1-8b1e-a758e5f165d5
DTSTART:20251109T090000Z
DTEND:20251109T230000Z
LOCATION:Localisation   
CATEGORIES:Sportif
STATUS:
URL;VALUE=URI:https://www.badaumonas.org/evenements/2025/11/09/d1-d1-12-bam-2-d1-contre-12-lfdvr-1-d1-2418098
END:VEVENT
END:VCALENDAR
