BEGIN:VCALENDAR
VERSION:2.0
PRODID:-//hacksw/handcal//NONSGML v1.0//EN
BEGIN:VEVENT
SUMMARY:D2 D2 12-BAM-3 D2 contre 12-GBC-1 D2
UID:185123dc-b131-4d4f-aa78-9428fb0fac8d
DTSTART:20251214T090000Z
DTEND:20251214T230000Z
LOCATION:Localisation   
CATEGORIES:Sportif
STATUS:
URL;VALUE=URI:https://www.badaumonas.org/evenements/2025/12/14/d2-d2-12-bam-3-d2-contre-12-gbc-1-d2-2418093
END:VEVENT
END:VCALENDAR
