BEGIN:VCALENDAR
VERSION:2.0
PRODID:-//hacksw/handcal//NONSGML v1.0//EN
BEGIN:VEVENT
SUMMARY:D3 D3 A 12-BAM-4 D3 contre 12-SOMB-2 D3
UID:7dbaec55-6fc2-48e1-b01f-6f43ecb39f2d
DTSTART:20260118T090000Z
DTEND:20260118T230000Z
LOCATION:Localisation   
CATEGORIES:Sportif
STATUS:
URL;VALUE=URI:https://www.badaumonas.org/evenements/2026/01/18/d3-d3-a-12-bam-4-d3-contre-12-somb-2-d3-2418081
END:VEVENT
END:VCALENDAR
