BEGIN:VCALENDAR
VERSION:2.0
PRODID:-//hacksw/handcal//NONSGML v1.0//EN
BEGIN:VEVENT
SUMMARY:D5 D5 12-SAB-3 D5 contre 12-BAM-6 D5
UID:d4506957-001a-4a19-9a18-371b6a1f0841
DTSTART:20260118T130000Z
DTEND:20260118T230000Z
LOCATION:Localisation   
CATEGORIES:Sportif
STATUS:
URL;VALUE=URI:https://www.badaumonas.org/evenements/2026/01/18/d5-d5-12-sab-3-d5-contre-12-bam-6-d5-2418073
END:VEVENT
END:VCALENDAR
