BEGIN:VCALENDAR
VERSION:2.0
PRODID:-//hacksw/handcal//NONSGML v1.0//EN
BEGIN:VEVENT
SUMMARY:D4 D4 12-BAM-5 D4 contre 48-BCBG-4 D4
UID:168ba1aa-95e7-4a0a-8ed3-b1dff5fa1fdb
DTSTART:20260315T130000Z
DTEND:20260315T230000Z
LOCATION:Localisation   
CATEGORIES:Sportif
STATUS:
URL;VALUE=URI:https://www.badaumonas.org/evenements/2026/03/15/d4-d4-12-bam-5-d4-contre-48-bcbg-4-d4-2418107
END:VEVENT
END:VCALENDAR
