BEGIN:VCALENDAR
VERSION:2.0
PRODID:-//hacksw/handcal//NONSGML v1.0//EN
BEGIN:VEVENT
SUMMARY:D5 D5 12-BAM-6 D5 contre 12-OBAD-5 D5
UID:590dbbcb-ad89-4c14-a32f-37239ddf9513
DTSTART:20260329T120000Z
DTEND:20260329T230000Z
LOCATION:Localisation   
CATEGORIES:Sportif
STATUS:
URL;VALUE=URI:https://www.badaumonas.org/evenements/2026/03/29/d5-d5-12-bam-6-d5-contre-12-obad-5-d5-2418111
END:VEVENT
END:VCALENDAR
