BEGIN:VCALENDAR
VERSION:2.0
PRODID:-//hacksw/handcal//NONSGML v1.0//EN
BEGIN:VEVENT
SUMMARY:D2 D2 12-CBR-3 D2 contre 12-BAM-3 D2
UID:b0f72b27-2f62-48c7-a35c-9805dc0eed57
DTSTART:20260412T120000Z
DTEND:20260412T220000Z
LOCATION:Localisation   
CATEGORIES:Sportif
STATUS:
URL;VALUE=URI:https://www.badaumonas.org/evenements/2026/04/12/d2-d2-12-cbr-3-d2-contre-12-bam-3-d2-2418118
END:VEVENT
END:VCALENDAR
